BEGIN:VCALENDAR
VERSION:2.0
PRODID:-//tgpdenver.org//NONSGML kigkonsult.se iCalcreator 2.30.10//
CALSCALE:GREGORIAN
METHOD:PUBLISH
UID:2bcb1fe7-0f53-43aa-beb2-dd67f73bbef4
X-WR-CALDESC:
X-WR-RELCALID:e9250f683eee7d8f910b5403c0cdf07c
X-WR-TIMEZONE:America/Denver
BEGIN:VTIMEZONE
TZID:America/Denver
BEGIN:STANDARD
TZNAME:MST
DTSTART:20221106T020000
TZOFFSETFROM:-0600
TZOFFSETTO:-0700
RDATE:20231105T020000
RDATE:20241103T020000
END:STANDARD
BEGIN:DAYLIGHT
TZNAME:MDT
DTSTART:20230312T020000
TZOFFSETFROM:-0700
TZOFFSETTO:-0600
RDATE:20240310T020000
RDATE:20250309T020000
END:DAYLIGHT
END:VTIMEZONE
BEGIN:VEVENT
UID:7a4f1f6e-1fea-4f6e-9a85-0d31c08c9e4a
DTSTAMP:20260425T221835Z
DESCRIPTION:
DTSTART;TZID=America/Denver:20230912T093000
DTEND;TZID=America/Denver:20230912T120000
LOCATION:Art Room
SUMMARY:Open Studio
END:VEVENT
END:VCALENDAR
