BEGIN:VCALENDAR
VERSION:2.0
PRODID:-//tgpdenver.org//NONSGML kigkonsult.se iCalcreator 2.30.10//
CALSCALE:GREGORIAN
METHOD:PUBLISH
UID:6d7530f7-b421-48bc-bcf7-6e8792e04b61
X-WR-CALDESC:
X-WR-RELCALID:1041f984ea9e29f3802e5340b77a0108
X-WR-TIMEZONE:America/Denver
BEGIN:VTIMEZONE
TZID:America/Denver
BEGIN:STANDARD
TZNAME:MST
DTSTART:20221106T020000
TZOFFSETFROM:-0600
TZOFFSETTO:-0700
RDATE:20231105T020000
RDATE:20241103T020000
END:STANDARD
BEGIN:DAYLIGHT
TZNAME:MDT
DTSTART:20230312T020000
TZOFFSETFROM:-0700
TZOFFSETTO:-0600
RDATE:20240310T020000
RDATE:20250309T020000
END:DAYLIGHT
END:VTIMEZONE
BEGIN:VEVENT
UID:0f0518b3-c21a-4709-89a8-5b37e1440423
DTSTAMP:20260425T222338Z
DESCRIPTION:
DTSTART;TZID=America/Denver:20230913T100000
DTEND;TZID=America/Denver:20230913T120000
LOCATION:
SUMMARY:WellPower
END:VEVENT
END:VCALENDAR
