BEGIN:VCALENDAR
VERSION:2.0
PRODID:-//tgpdenver.org//NONSGML kigkonsult.se iCalcreator 2.30.10//
CALSCALE:GREGORIAN
METHOD:PUBLISH
UID:a1673122-718e-4afe-a5a8-9106764bc853
X-WR-CALDESC:
X-WR-RELCALID:5d2276d5bd08b5bdd3771ab2049d37d4
X-WR-TIMEZONE:America/Denver
BEGIN:VTIMEZONE
TZID:America/Denver
BEGIN:STANDARD
TZNAME:MST
DTSTART:20221106T020000
TZOFFSETFROM:-0600
TZOFFSETTO:-0700
RDATE:20231105T020000
RDATE:20241103T020000
END:STANDARD
BEGIN:DAYLIGHT
TZNAME:MDT
DTSTART:20230312T020000
TZOFFSETFROM:-0700
TZOFFSETTO:-0600
RDATE:20240310T020000
RDATE:20250309T020000
END:DAYLIGHT
END:VTIMEZONE
BEGIN:VEVENT
UID:17d028e5-8595-4cae-adea-a1741d12978b
DTSTAMP:20260425T222737Z
DESCRIPTION:
DTSTART;TZID=America/Denver:20230915T090000
DTEND;TZID=America/Denver:20230915T150000
LOCATION:
SUMMARY:Denver College of Nursing
END:VEVENT
END:VCALENDAR
