BEGIN:VCALENDAR
VERSION:2.0
PRODID:-//tgpdenver.org//NONSGML kigkonsult.se iCalcreator 2.30.10//
CALSCALE:GREGORIAN
METHOD:PUBLISH
UID:20b09120-1018-44ec-a6fc-8895baf4e78e
X-WR-CALDESC:TGP will be closed the week of September 18- 22
X-WR-RELCALID:f43fcdb228e33327e916d504c9bdc9ed
X-WR-TIMEZONE:America/Denver
BEGIN:VTIMEZONE
TZID:America/Denver
BEGIN:STANDARD
TZNAME:MST
DTSTART:20221106T020000
TZOFFSETFROM:-0600
TZOFFSETTO:-0700
RDATE:20231105T020000
RDATE:20241103T020000
END:STANDARD
BEGIN:DAYLIGHT
TZNAME:MDT
DTSTART:20230312T020000
TZOFFSETFROM:-0700
TZOFFSETTO:-0600
RDATE:20240310T020000
RDATE:20250309T020000
END:DAYLIGHT
END:VTIMEZONE
BEGIN:VEVENT
UID:b5bcbe65-4c41-49dd-af7e-d224e5091b83
DTSTAMP:20260425T221906Z
DESCRIPTION:TGP will be closed the week of September 18- 22
DTSTART;TZID=America/Denver:20230918T000000
DTEND;TZID=America/Denver:20230922T235900
LOCATION:
SUMMARY:TGP CLOSED
END:VEVENT
END:VCALENDAR
