BEGIN:VCALENDAR
VERSION:2.0
PRODID:-//tgpdenver.org//NONSGML kigkonsult.se iCalcreator 2.30.10//
CALSCALE:GREGORIAN
METHOD:PUBLISH
UID:fe3916ed-851b-4d95-b983-92e15727dc34
X-WR-CALDESC:
X-WR-RELCALID:ebe117fd7a47db263c494e1ee5c7215f
X-WR-TIMEZONE:America/Denver
BEGIN:VTIMEZONE
TZID:America/Denver
BEGIN:STANDARD
TZNAME:MST
DTSTART:20221106T020000
TZOFFSETFROM:-0600
TZOFFSETTO:-0700
RDATE:20231105T020000
RDATE:20241103T020000
END:STANDARD
BEGIN:DAYLIGHT
TZNAME:MDT
DTSTART:20230312T020000
TZOFFSETFROM:-0700
TZOFFSETTO:-0600
RDATE:20240310T020000
RDATE:20250309T020000
END:DAYLIGHT
END:VTIMEZONE
BEGIN:VEVENT
UID:fbd3075b-ce2f-4770-8e4c-ddaf6f0c2d2f
DTSTAMP:20260425T222640Z
DESCRIPTION:
DTSTART;TZID=America/Denver:20230925T140000
DTEND;TZID=America/Denver:20230925T144500
LOCATION:Art Studio
SUMMARY:Survivor Art
END:VEVENT
END:VCALENDAR
