BEGIN:VCALENDAR
VERSION:2.0
PRODID:-//tgpdenver.org//NONSGML kigkonsult.se iCalcreator 2.30.10//
CALSCALE:GREGORIAN
METHOD:PUBLISH
UID:13f46898-4df9-4d19-b5be-1783ad607451
X-WR-CALDESC:
X-WR-RELCALID:7da4c497e7b8eba228c9c3e4cee5befa
X-WR-TIMEZONE:America/Denver
BEGIN:VTIMEZONE
TZID:America/Denver
BEGIN:STANDARD
TZNAME:MST
DTSTART:20221106T020000
TZOFFSETFROM:-0600
TZOFFSETTO:-0700
RDATE:20231105T020000
RDATE:20241103T020000
END:STANDARD
BEGIN:DAYLIGHT
TZNAME:MDT
DTSTART:20230312T020000
TZOFFSETFROM:-0700
TZOFFSETTO:-0600
RDATE:20240310T020000
RDATE:20250309T020000
END:DAYLIGHT
END:VTIMEZONE
BEGIN:VEVENT
UID:c311ea6d-4c91-4c2b-ac6c-3185e35df7c5
DTSTAMP:20260425T221834Z
DESCRIPTION:
DTSTART;TZID=America/Denver:20230926T093000
DTEND;TZID=America/Denver:20230926T120000
LOCATION:Art Room
SUMMARY:Open Studio
END:VEVENT
END:VCALENDAR
