BEGIN:VCALENDAR
VERSION:2.0
PRODID:-//tgpdenver.org//NONSGML kigkonsult.se iCalcreator 2.30.10//
CALSCALE:GREGORIAN
METHOD:PUBLISH
UID:d985bb80-9d80-42d6-b68b-a1c6e28b6da2
X-WR-CALDESC:
X-WR-RELCALID:826517b68c99df9302f72e680b1b30ef
X-WR-TIMEZONE:America/Denver
BEGIN:VTIMEZONE
TZID:America/Denver
BEGIN:STANDARD
TZNAME:MST
DTSTART:20221106T020000
TZOFFSETFROM:-0600
TZOFFSETTO:-0700
RDATE:20231105T020000
RDATE:20241103T020000
END:STANDARD
BEGIN:DAYLIGHT
TZNAME:MDT
DTSTART:20230312T020000
TZOFFSETFROM:-0700
TZOFFSETTO:-0600
RDATE:20240310T020000
RDATE:20250309T020000
END:DAYLIGHT
END:VTIMEZONE
BEGIN:VEVENT
UID:a37d96e6-2ff4-4fb8-8129-d1f291a044b3
DTSTAMP:20260425T222456Z
DESCRIPTION:
DTSTART;TZID=America/Denver:20230927T100000
DTEND;TZID=America/Denver:20230927T120000
LOCATION:
SUMMARY:WellPower
END:VEVENT
END:VCALENDAR
