BEGIN:VCALENDAR
VERSION:2.0
PRODID:-//tgpdenver.org//NONSGML kigkonsult.se iCalcreator 2.30.10//
CALSCALE:GREGORIAN
METHOD:PUBLISH
UID:c1e51c73-3c50-43fe-980a-64df23dcfdba
X-WR-CALDESC:Clinicians from Stout Street Clinic HOP visit to help with bas
 ic health needs. First come\, first served.
X-WR-RELCALID:1e721a82419c24cd7dc275c42063eab9
X-WR-TIMEZONE:America/Denver
BEGIN:VTIMEZONE
TZID:America/Denver
BEGIN:STANDARD
TZNAME:MST
DTSTART:20221106T020000
TZOFFSETFROM:-0600
TZOFFSETTO:-0700
RDATE:20231105T020000
RDATE:20241103T020000
END:STANDARD
BEGIN:DAYLIGHT
TZNAME:MDT
DTSTART:20230312T020000
TZOFFSETFROM:-0700
TZOFFSETTO:-0600
RDATE:20240310T020000
RDATE:20250309T020000
END:DAYLIGHT
END:VTIMEZONE
BEGIN:VEVENT
UID:a2a2276d-5f93-46ef-9ba7-979eb83f4e3e
DTSTAMP:20260425T202653Z
DESCRIPTION:Clinicians from Stout Street Clinic HOP visit to help with basi
 c health needs. First come\, first served.
DTSTART;TZID=America/Denver:20231004T090000
DTEND;TZID=America/Denver:20231004T130000
LOCATION:Wellness Area\, 1st Floor
SUMMARY:Stout St. Health Outreach Program
END:VEVENT
END:VCALENDAR
