BEGIN:VCALENDAR
VERSION:2.0
PRODID:-//tgpdenver.org//NONSGML kigkonsult.se iCalcreator 2.30.10//
CALSCALE:GREGORIAN
METHOD:PUBLISH
UID:95dfbe91-fd01-489c-934a-0e9f30f74990
X-WR-CALDESC:
X-WR-RELCALID:23ccb6b56af360ca9dfac4581fdace27
X-WR-TIMEZONE:America/Denver
BEGIN:VTIMEZONE
TZID:America/Denver
BEGIN:STANDARD
TZNAME:MST
DTSTART:20221106T020000
TZOFFSETFROM:-0600
TZOFFSETTO:-0700
RDATE:20231105T020000
RDATE:20241103T020000
END:STANDARD
BEGIN:DAYLIGHT
TZNAME:MDT
DTSTART:20230312T020000
TZOFFSETFROM:-0700
TZOFFSETTO:-0600
RDATE:20240310T020000
RDATE:20250309T020000
END:DAYLIGHT
END:VTIMEZONE
BEGIN:VEVENT
UID:00e388b8-a6e9-45b2-abc8-5d7a0621154c
DTSTAMP:20260425T202429Z
DESCRIPTION:
DTSTART;TZID=America/Denver:20231004T100000
DTEND;TZID=America/Denver:20231004T120000
LOCATION:
SUMMARY:WellPower
END:VEVENT
END:VCALENDAR
