BEGIN:VCALENDAR
VERSION:2.0
PRODID:-//tgpdenver.org//NONSGML kigkonsult.se iCalcreator 2.30.10//
CALSCALE:GREGORIAN
METHOD:PUBLISH
UID:5cedb037-83ca-4b06-8c4b-7ddb026eb4b6
X-WR-CALDESC:
X-WR-RELCALID:ead791f62e1d29e9cf349293b934b7c5
X-WR-TIMEZONE:America/Denver
BEGIN:VTIMEZONE
TZID:America/Denver
BEGIN:STANDARD
TZNAME:MST
DTSTART:20221106T020000
TZOFFSETFROM:-0600
TZOFFSETTO:-0700
RDATE:20231105T020000
RDATE:20241103T020000
END:STANDARD
BEGIN:DAYLIGHT
TZNAME:MDT
DTSTART:20230312T020000
TZOFFSETFROM:-0700
TZOFFSETTO:-0600
RDATE:20240310T020000
RDATE:20250309T020000
END:DAYLIGHT
END:VTIMEZONE
BEGIN:VEVENT
UID:1f3154b0-2f11-4386-9fee-dc45234cd4f7
DTSTAMP:20260425T202808Z
DESCRIPTION:
DTSTART;TZID=America/Denver:20231006T090000
DTEND;TZID=America/Denver:20231006T150000
LOCATION:
SUMMARY:Denver College of Nursing
END:VEVENT
END:VCALENDAR
