BEGIN:VCALENDAR
VERSION:2.0
PRODID:-//tgpdenver.org//NONSGML kigkonsult.se iCalcreator 2.30.10//
CALSCALE:GREGORIAN
METHOD:PUBLISH
UID:de8a720d-9542-4894-a666-638597ce2a30
X-WR-CALDESC:
X-WR-RELCALID:f01eeeb0d943e13a8bbb658800cc386d
X-WR-TIMEZONE:America/Denver
BEGIN:VTIMEZONE
TZID:America/Denver
BEGIN:STANDARD
TZNAME:MST
DTSTART:20221106T020000
TZOFFSETFROM:-0600
TZOFFSETTO:-0700
RDATE:20231105T020000
RDATE:20241103T020000
END:STANDARD
BEGIN:DAYLIGHT
TZNAME:MDT
DTSTART:20230312T020000
TZOFFSETFROM:-0700
TZOFFSETTO:-0600
RDATE:20240310T020000
RDATE:20250309T020000
END:DAYLIGHT
END:VTIMEZONE
BEGIN:VEVENT
UID:8579b719-8b33-43ba-bf80-0997f251e59c
DTSTAMP:20260425T202446Z
DESCRIPTION:
DTSTART;TZID=America/Denver:20231011T100000
DTEND;TZID=America/Denver:20231011T120000
LOCATION:
SUMMARY:WellPower
END:VEVENT
END:VCALENDAR
