BEGIN:VCALENDAR
VERSION:2.0
PRODID:-//tgpdenver.org//NONSGML kigkonsult.se iCalcreator 2.30.10//
CALSCALE:GREGORIAN
METHOD:PUBLISH
UID:c7411679-a9f8-451a-b75c-0942c6dd9a65
X-WR-CALDESC:60 minute yoga class for beginners. Led by TGP volunteer\, Cal
 lie.
X-WR-RELCALID:2650bb5838e408e2efcff8a9f35029bd
X-WR-TIMEZONE:America/Denver
BEGIN:VTIMEZONE
TZID:America/Denver
BEGIN:STANDARD
TZNAME:MST
DTSTART:20221106T020000
TZOFFSETFROM:-0600
TZOFFSETTO:-0700
RDATE:20231105T020000
RDATE:20241103T020000
END:STANDARD
BEGIN:DAYLIGHT
TZNAME:MDT
DTSTART:20230312T020000
TZOFFSETFROM:-0700
TZOFFSETTO:-0600
RDATE:20240310T020000
RDATE:20250309T020000
END:DAYLIGHT
END:VTIMEZONE
BEGIN:VEVENT
UID:d9dbaa28-5bd2-4fdb-97cb-1535d6308a67
DTSTAMP:20260425T202339Z
DESCRIPTION:60 minute yoga class for beginners. Led by TGP volunteer\, Call
 ie.
DTSTART;TZID=America/Denver:20231011T130000
DTEND;TZID=America/Denver:20231011T140000
LOCATION:3rd floor art studio
SUMMARY:Gentle Yoga
END:VEVENT
END:VCALENDAR
