BEGIN:VCALENDAR
VERSION:2.0
PRODID:-//tgpdenver.org//NONSGML kigkonsult.se iCalcreator 2.30.10//
CALSCALE:GREGORIAN
METHOD:PUBLISH
UID:c0f096a2-6d3a-4697-aeaf-b2564df157a8
X-WR-CALDESC:Make jewelry\, explore the art of beading and it’s healing pow
 ers.
X-WR-RELCALID:1dba23604140a6604580b89a940b760a
X-WR-TIMEZONE:America/Denver
BEGIN:VTIMEZONE
TZID:America/Denver
BEGIN:STANDARD
TZNAME:MST
DTSTART:20221106T020000
TZOFFSETFROM:-0600
TZOFFSETTO:-0700
RDATE:20231105T020000
RDATE:20241103T020000
END:STANDARD
BEGIN:DAYLIGHT
TZNAME:MDT
DTSTART:20230312T020000
TZOFFSETFROM:-0700
TZOFFSETTO:-0600
RDATE:20240310T020000
RDATE:20250309T020000
END:DAYLIGHT
END:VTIMEZONE
BEGIN:VEVENT
UID:5f063d2c-6750-45ed-9fb0-eeaa518f58c2
DTSTAMP:20260425T202105Z
DESCRIPTION:Make jewelry\, explore the art of beading and it’s healing powe
 rs.
DTSTART;TZID=America/Denver:20231012T130000
DTEND;TZID=America/Denver:20231012T150000
LOCATION:3rd floor art studio
SUMMARY:Beading
END:VEVENT
END:VCALENDAR
