BEGIN:VCALENDAR
VERSION:2.0
PRODID:-//tgpdenver.org//NONSGML kigkonsult.se iCalcreator 2.30.10//
CALSCALE:GREGORIAN
METHOD:PUBLISH
UID:4ec8a6bf-b3dc-4a1d-9ede-bcdbdc47ad81
X-WR-CALDESC:
X-WR-RELCALID:b9b7110603b9fd572423580d066669da
X-WR-TIMEZONE:America/Denver
BEGIN:VTIMEZONE
TZID:America/Denver
BEGIN:STANDARD
TZNAME:MST
DTSTART:20221106T020000
TZOFFSETFROM:-0600
TZOFFSETTO:-0700
RDATE:20231105T020000
RDATE:20241103T020000
END:STANDARD
BEGIN:DAYLIGHT
TZNAME:MDT
DTSTART:20230312T020000
TZOFFSETFROM:-0700
TZOFFSETTO:-0600
RDATE:20240310T020000
RDATE:20250309T020000
END:DAYLIGHT
END:VTIMEZONE
BEGIN:VEVENT
UID:f3777783-f9d7-4ea6-ac90-1be274bad48c
DTSTAMP:20260425T202445Z
DESCRIPTION:
DTSTART;TZID=America/Denver:20231016T130000
DTEND;TZID=America/Denver:20231016T134500
LOCATION:Art Studio
SUMMARY:Survivor Circle
END:VEVENT
END:VCALENDAR
