BEGIN:VCALENDAR
VERSION:2.0
PRODID:-//tgpdenver.org//NONSGML kigkonsult.se iCalcreator 2.30.10//
CALSCALE:GREGORIAN
METHOD:PUBLISH
UID:12258259-a8de-4645-b5d4-3b06a8defdab
X-WR-CALDESC:
X-WR-RELCALID:3963e71bfb881076da2c92aa11e91d15
X-WR-TIMEZONE:America/Denver
BEGIN:VTIMEZONE
TZID:America/Denver
BEGIN:STANDARD
TZNAME:MST
DTSTART:20221106T020000
TZOFFSETFROM:-0600
TZOFFSETTO:-0700
RDATE:20231105T020000
RDATE:20241103T020000
END:STANDARD
BEGIN:DAYLIGHT
TZNAME:MDT
DTSTART:20230312T020000
TZOFFSETFROM:-0700
TZOFFSETTO:-0600
RDATE:20240310T020000
RDATE:20250309T020000
END:DAYLIGHT
END:VTIMEZONE
BEGIN:VEVENT
UID:2e9ed7b9-fe77-459c-8293-42f08a8328ac
DTSTAMP:20260425T202533Z
DESCRIPTION:
DTSTART;TZID=America/Denver:20231018T100000
DTEND;TZID=America/Denver:20231018T120000
LOCATION:
SUMMARY:WellPower
END:VEVENT
END:VCALENDAR
