BEGIN:VCALENDAR
VERSION:2.0
PRODID:-//tgpdenver.org//NONSGML kigkonsult.se iCalcreator 2.30.10//
CALSCALE:GREGORIAN
METHOD:PUBLISH
UID:a4d296ff-7578-4790-9426-3fce19f562df
X-WR-CALDESC:
X-WR-RELCALID:54fb4271f7d86f77fa008a0eb00fc8a5
X-WR-TIMEZONE:America/Denver
BEGIN:VTIMEZONE
TZID:America/Denver
BEGIN:STANDARD
TZNAME:MST
DTSTART:20221106T020000
TZOFFSETFROM:-0600
TZOFFSETTO:-0700
RDATE:20231105T020000
RDATE:20241103T020000
END:STANDARD
BEGIN:DAYLIGHT
TZNAME:MDT
DTSTART:20230312T020000
TZOFFSETFROM:-0700
TZOFFSETTO:-0600
RDATE:20240310T020000
RDATE:20250309T020000
END:DAYLIGHT
END:VTIMEZONE
BEGIN:VEVENT
UID:081f1048-066a-4122-9468-f344e721473e
DTSTAMP:20260425T202849Z
DESCRIPTION:
DTSTART;TZID=America/Denver:20231023T090000
DTEND;TZID=America/Denver:20231023T110000
LOCATION:Welcome Area
SUMMARY:Denver Women's Care
END:VEVENT
END:VCALENDAR
