BEGIN:VCALENDAR
VERSION:2.0
PRODID:-//tgpdenver.org//NONSGML kigkonsult.se iCalcreator 2.30.10//
CALSCALE:GREGORIAN
METHOD:PUBLISH
UID:18669d7a-9258-4014-ae88-5e4f7a6b0593
X-WR-CALDESC:
X-WR-RELCALID:abb4f60bfd5ce7140353fb29734959e7
X-WR-TIMEZONE:America/Denver
BEGIN:VTIMEZONE
TZID:America/Denver
BEGIN:STANDARD
TZNAME:MST
DTSTART:20221106T020000
TZOFFSETFROM:-0600
TZOFFSETTO:-0700
RDATE:20231105T020000
RDATE:20241103T020000
END:STANDARD
BEGIN:DAYLIGHT
TZNAME:MDT
DTSTART:20230312T020000
TZOFFSETFROM:-0700
TZOFFSETTO:-0600
RDATE:20240310T020000
RDATE:20250309T020000
END:DAYLIGHT
END:VTIMEZONE
BEGIN:VEVENT
UID:11b5ccb4-afdb-41ea-92b0-41b0468169a3
DTSTAMP:20260425T202533Z
DESCRIPTION:
DTSTART;TZID=America/Denver:20231025T100000
DTEND;TZID=America/Denver:20231025T113000
LOCATION:
SUMMARY:Native American talking circle
END:VEVENT
END:VCALENDAR
