BEGIN:VCALENDAR
VERSION:2.0
PRODID:-//tgpdenver.org//NONSGML kigkonsult.se iCalcreator 2.30.10//
CALSCALE:GREGORIAN
METHOD:PUBLISH
UID:99ff996e-6909-46a4-809f-7b927e303a73
X-WR-CALDESC:Make jewelry\, explore the art of beading and it’s healing pow
 ers.
X-WR-RELCALID:237118f007aff4ea556315165f4c2265
X-WR-TIMEZONE:America/Denver
BEGIN:VTIMEZONE
TZID:America/Denver
BEGIN:STANDARD
TZNAME:MST
DTSTART:20221106T020000
TZOFFSETFROM:-0600
TZOFFSETTO:-0700
RDATE:20231105T020000
RDATE:20241103T020000
END:STANDARD
BEGIN:DAYLIGHT
TZNAME:MDT
DTSTART:20230312T020000
TZOFFSETFROM:-0700
TZOFFSETTO:-0600
RDATE:20240310T020000
RDATE:20250309T020000
END:DAYLIGHT
END:VTIMEZONE
BEGIN:VEVENT
UID:1cb35475-17ca-4335-a6e1-41855073c74a
DTSTAMP:20260425T202039Z
DESCRIPTION:Make jewelry\, explore the art of beading and it’s healing powe
 rs.
DTSTART;TZID=America/Denver:20231025T130000
DTEND;TZID=America/Denver:20231025T150000
LOCATION:3rd floor art studio
SUMMARY:Beading
END:VEVENT
END:VCALENDAR
