BEGIN:VCALENDAR
VERSION:2.0
PRODID:-//tgpdenver.org//NONSGML kigkonsult.se iCalcreator 2.30.10//
CALSCALE:GREGORIAN
METHOD:PUBLISH
UID:fcbbd104-1111-46c8-8351-bbe23aa40520
X-WR-CALDESC:60 minute yoga class for beginners.
X-WR-RELCALID:de356598a4318450353a73a55377246c
X-WR-TIMEZONE:America/Denver
BEGIN:VTIMEZONE
TZID:America/Denver
BEGIN:STANDARD
TZNAME:MST
DTSTART:20221106T020000
TZOFFSETFROM:-0600
TZOFFSETTO:-0700
RDATE:20231105T020000
RDATE:20241103T020000
END:STANDARD
BEGIN:DAYLIGHT
TZNAME:MDT
DTSTART:20230312T020000
TZOFFSETFROM:-0700
TZOFFSETTO:-0600
RDATE:20240310T020000
RDATE:20250309T020000
END:DAYLIGHT
END:VTIMEZONE
BEGIN:VEVENT
UID:f12060e6-2464-4fca-b553-aae4497e28ea
DTSTAMP:20260425T202339Z
DESCRIPTION:60 minute yoga class for beginners.
DTSTART;TZID=America/Denver:20231026T103000
DTEND;TZID=America/Denver:20231026T113000
LOCATION:3rd floor art studio
SUMMARY:Gentle Yoga
END:VEVENT
END:VCALENDAR
