BEGIN:VCALENDAR
VERSION:2.0
PRODID:-//tgpdenver.org//NONSGML kigkonsult.se iCalcreator 2.30.10//
CALSCALE:GREGORIAN
METHOD:PUBLISH
UID:82896726-c55b-4835-97e0-0d6a168426d2
X-WR-CALDESC:
X-WR-RELCALID:572ec99c1fd149d2539c101441accc73
X-WR-TIMEZONE:America/Denver
BEGIN:VTIMEZONE
TZID:America/Denver
BEGIN:STANDARD
TZNAME:MST
DTSTART:20221106T020000
TZOFFSETFROM:-0600
TZOFFSETTO:-0700
RDATE:20231105T020000
RDATE:20241103T020000
END:STANDARD
BEGIN:DAYLIGHT
TZNAME:MDT
DTSTART:20230312T020000
TZOFFSETFROM:-0700
TZOFFSETTO:-0600
RDATE:20240310T020000
RDATE:20250309T020000
END:DAYLIGHT
END:VTIMEZONE
BEGIN:VEVENT
UID:b2aabe32-b9c8-472c-93ac-5b6bdc20044b
DTSTAMP:20260425T202829Z
DESCRIPTION:
DTSTART;TZID=America/Denver:20231027T090000
DTEND;TZID=America/Denver:20231027T150000
LOCATION:
SUMMARY:Denver College of Nursing
END:VEVENT
END:VCALENDAR
