BEGIN:VCALENDAR
VERSION:2.0
PRODID:-//tgpdenver.org//NONSGML kigkonsult.se iCalcreator 2.30.10//
CALSCALE:GREGORIAN
METHOD:PUBLISH
UID:778943fa-9ec2-479b-9152-17bb60ba09d5
X-WR-CALDESC:Simple\, guided clay projects for beginners.
X-WR-RELCALID:0c4bfa628dcfd65386f3fd533d182097
X-WR-TIMEZONE:America/Denver
BEGIN:VTIMEZONE
TZID:America/Denver
BEGIN:STANDARD
TZNAME:MST
DTSTART:20221106T020000
TZOFFSETFROM:-0600
TZOFFSETTO:-0700
RDATE:20231105T020000
RDATE:20241103T020000
END:STANDARD
BEGIN:DAYLIGHT
TZNAME:MDT
DTSTART:20230312T020000
TZOFFSETFROM:-0700
TZOFFSETTO:-0600
RDATE:20240310T020000
RDATE:20250309T020000
END:DAYLIGHT
END:VTIMEZONE
BEGIN:VEVENT
UID:d1a07d31-51b1-4661-a63b-6b2890c12c9d
DTSTAMP:20260425T202413Z
DESCRIPTION:Simple\, guided clay projects for beginners.
DTSTART;TZID=America/Denver:20231027T100000
DTEND;TZID=America/Denver:20231027T120000
LOCATION:3rd floor art studio
SUMMARY:clay class
END:VEVENT
END:VCALENDAR
