BEGIN:VCALENDAR
VERSION:2.0
PRODID:-//tgpdenver.org//NONSGML kigkonsult.se iCalcreator 2.30.10//
CALSCALE:GREGORIAN
METHOD:PUBLISH
UID:c289bd35-73f5-4261-bfd9-6a330e24e52b
X-WR-CALDESC:Supplies and art studio space open to all members to create an
 y project or craft.
X-WR-RELCALID:46a791f8e13a207c03c2618c92ba52c8
X-WR-TIMEZONE:America/Denver
BEGIN:VTIMEZONE
TZID:America/Denver
BEGIN:STANDARD
TZNAME:MST
DTSTART:20221106T020000
TZOFFSETFROM:-0600
TZOFFSETTO:-0700
RDATE:20231105T020000
RDATE:20241103T020000
END:STANDARD
BEGIN:DAYLIGHT
TZNAME:MDT
DTSTART:20230312T020000
TZOFFSETFROM:-0700
TZOFFSETTO:-0600
RDATE:20240310T020000
RDATE:20250309T020000
END:DAYLIGHT
END:VTIMEZONE
BEGIN:VEVENT
UID:a5eece7f-5161-43b7-b381-957e4f7f4c78
DTSTAMP:20260425T202235Z
DESCRIPTION:Supplies and art studio space open to all members to create any
  project or craft.
DTSTART;TZID=America/Denver:20231030T090000
DTEND;TZID=America/Denver:20231030T120000
LOCATION:3rd floor art studio
SUMMARY:Open studio
END:VEVENT
END:VCALENDAR
