BEGIN:VCALENDAR
VERSION:2.0
PRODID:-//tgpdenver.org//NONSGML kigkonsult.se iCalcreator 2.30.10//
CALSCALE:GREGORIAN
METHOD:PUBLISH
UID:7f003a5f-b9a9-469c-a6b3-dce64508f5a1
X-WR-CALDESC:Suboxone\, Substance Use Support
X-WR-RELCALID:557c6506f89229394cca9252c5938d2f
X-WR-TIMEZONE:America/Denver
BEGIN:VTIMEZONE
TZID:America/Denver
BEGIN:STANDARD
TZNAME:MST
DTSTART:20221106T020000
TZOFFSETFROM:-0600
TZOFFSETTO:-0700
RDATE:20231105T020000
RDATE:20241103T020000
END:STANDARD
BEGIN:DAYLIGHT
TZNAME:MDT
DTSTART:20230312T020000
TZOFFSETFROM:-0700
TZOFFSETTO:-0600
RDATE:20240310T020000
RDATE:20250309T020000
END:DAYLIGHT
END:VTIMEZONE
BEGIN:VEVENT
UID:def96c37-a919-4274-ae57-e3b8571b6c13
DTSTAMP:20260425T202629Z
DESCRIPTION:Suboxone\, Substance Use Support
DTSTART;TZID=America/Denver:20231030T100000
DTEND;TZID=America/Denver:20231030T110000
LOCATION:Foyer
SUMMARY:Medication Assisted Treatment
END:VEVENT
END:VCALENDAR
