BEGIN:VCALENDAR
VERSION:2.0
PRODID:-//tgpdenver.org//NONSGML kigkonsult.se iCalcreator 2.30.10//
CALSCALE:GREGORIAN
METHOD:PUBLISH
UID:2486e382-5f13-4f7d-a80f-f766bd05b15b
X-WR-CALDESC:Meet with writers from the University of Denver Writing Progra
 m for help with any project: letters\, e-mails\, fiction\, memoirs\, poetr
 y\, cover letters\, children's stories\, essays\, and more...
X-WR-RELCALID:20b5c49d035a8b7e497e5f997d5571d3
X-WR-TIMEZONE:America/Denver
BEGIN:VTIMEZONE
TZID:America/Denver
BEGIN:STANDARD
TZNAME:MST
DTSTART:20221106T020000
TZOFFSETFROM:-0600
TZOFFSETTO:-0700
RDATE:20231105T020000
RDATE:20241103T020000
END:STANDARD
BEGIN:DAYLIGHT
TZNAME:MDT
DTSTART:20230312T020000
TZOFFSETFROM:-0700
TZOFFSETTO:-0600
RDATE:20240310T020000
RDATE:20250309T020000
END:DAYLIGHT
END:VTIMEZONE
BEGIN:VEVENT
UID:242a286b-bea9-4f22-9a89-d398bfc78413
DTSTAMP:20260425T202413Z
DESCRIPTION:Meet with writers from the University of Denver Writing Program
  for help with any project: letters\, e-mails\, fiction\, memoirs\, poetry
 \, cover letters\, children's stories\, essays\, and more...
DTSTART;TZID=America/Denver:20231031T100000
DTEND;TZID=America/Denver:20231031T113000
LOCATION:Art Room
SUMMARY:Drop-in Writing
END:VEVENT
END:VCALENDAR
