BEGIN:VCALENDAR
VERSION:2.0
PRODID:-//tgpdenver.org//NONSGML kigkonsult.se iCalcreator 2.30.10//
CALSCALE:GREGORIAN
METHOD:PUBLISH
UID:e6a99031-20f9-42fd-86de-31578dfe8ddc
X-WR-CALDESC:Clinicians from Stout Street Clinic HOP visit to help with bas
 ic health needs. First come\, first served.
X-WR-RELCALID:aef1fab98013f1c0557212c9e8bb9187
X-WR-TIMEZONE:America/Denver
BEGIN:VTIMEZONE
TZID:America/Denver
BEGIN:STANDARD
TZNAME:MST
DTSTART:20221106T020000
TZOFFSETFROM:-0600
TZOFFSETTO:-0700
RDATE:20231105T020000
RDATE:20241103T020000
END:STANDARD
BEGIN:DAYLIGHT
TZNAME:MDT
DTSTART:20230312T020000
TZOFFSETFROM:-0700
TZOFFSETTO:-0600
RDATE:20240310T020000
RDATE:20250309T020000
END:DAYLIGHT
END:VTIMEZONE
BEGIN:VEVENT
UID:a1bc2aae-ec2a-42cb-8730-dafbd4f68315
DTSTAMP:20260425T184205Z
DESCRIPTION:Clinicians from Stout Street Clinic HOP visit to help with basi
 c health needs. First come\, first served.
DTSTART;TZID=America/Denver:20231101T090000
DTEND;TZID=America/Denver:20231101T130000
LOCATION:Wellness Area\, 1st Floor
SUMMARY:Stout St. Health Outreach Program
END:VEVENT
END:VCALENDAR
