BEGIN:VCALENDAR
VERSION:2.0
PRODID:-//tgpdenver.org//NONSGML kigkonsult.se iCalcreator 2.30.10//
CALSCALE:GREGORIAN
METHOD:PUBLISH
UID:7965500d-2910-4e26-9ad7-13813f278f35
X-WR-CALDESC:
X-WR-RELCALID:4f2b08dddba62ffc03a5640977b1bec4
X-WR-TIMEZONE:America/Denver
BEGIN:VTIMEZONE
TZID:America/Denver
BEGIN:STANDARD
TZNAME:MST
DTSTART:20221106T020000
TZOFFSETFROM:-0600
TZOFFSETTO:-0700
RDATE:20231105T020000
RDATE:20241103T020000
END:STANDARD
BEGIN:DAYLIGHT
TZNAME:MDT
DTSTART:20230312T020000
TZOFFSETFROM:-0700
TZOFFSETTO:-0600
RDATE:20240310T020000
RDATE:20250309T020000
END:DAYLIGHT
END:VTIMEZONE
BEGIN:VEVENT
UID:0ea9c102-a1c1-4f24-bcc1-58440a76b930
DTSTAMP:20260425T183738Z
DESCRIPTION:
DTSTART;TZID=America/Denver:20231101T100000
DTEND;TZID=America/Denver:20231101T113000
LOCATION:
SUMMARY:Native American talking circle
END:VEVENT
END:VCALENDAR
