BEGIN:VCALENDAR
VERSION:2.0
PRODID:-//tgpdenver.org//NONSGML kigkonsult.se iCalcreator 2.30.10//
CALSCALE:GREGORIAN
METHOD:PUBLISH
UID:51619fa6-045c-4570-8e1b-5dc977652a93
X-WR-CALDESC:
X-WR-RELCALID:452311f773e5790e9440dd550eff310a
X-WR-TIMEZONE:America/Denver
BEGIN:VTIMEZONE
TZID:America/Denver
BEGIN:STANDARD
TZNAME:MST
DTSTART:20221106T020000
TZOFFSETFROM:-0600
TZOFFSETTO:-0700
RDATE:20231105T020000
RDATE:20241103T020000
END:STANDARD
BEGIN:DAYLIGHT
TZNAME:MDT
DTSTART:20230312T020000
TZOFFSETFROM:-0700
TZOFFSETTO:-0600
RDATE:20240310T020000
RDATE:20250309T020000
END:DAYLIGHT
END:VTIMEZONE
BEGIN:VEVENT
UID:8189d306-71a2-4f8b-aaaa-b7249024c01b
DTSTAMP:20260425T183611Z
DESCRIPTION:
DTSTART;TZID=America/Denver:20231106T130000
DTEND;TZID=America/Denver:20231106T134500
LOCATION:Art Studio
SUMMARY:Survivor Circle
END:VEVENT
END:VCALENDAR
