BEGIN:VCALENDAR
VERSION:2.0
PRODID:-//tgpdenver.org//NONSGML kigkonsult.se iCalcreator 2.30.10//
CALSCALE:GREGORIAN
METHOD:PUBLISH
UID:38e9b2fa-accc-4a8e-a56d-76551d0b07c0
X-WR-CALDESC:
X-WR-RELCALID:f48b0b4f2d8f58dfb9fb88ed78bda5bf
X-WR-TIMEZONE:America/Denver
BEGIN:VTIMEZONE
TZID:America/Denver
BEGIN:STANDARD
TZNAME:MST
DTSTART:20231105T020000
TZOFFSETFROM:-0600
TZOFFSETTO:-0700
RDATE:20241103T020000
END:STANDARD
BEGIN:DAYLIGHT
TZNAME:MDT
DTSTART:20230312T020000
TZOFFSETFROM:-0700
TZOFFSETTO:-0600
RDATE:20240310T020000
RDATE:20250309T020000
END:DAYLIGHT
END:VTIMEZONE
BEGIN:VEVENT
UID:5812f8f2-1ecd-425c-a26f-09a5fee2958c
DTSTAMP:20260425T183611Z
DESCRIPTION:
DTSTART;TZID=America/Denver:20231108T100000
DTEND;TZID=America/Denver:20231108T120000
LOCATION:
SUMMARY:WellPower
END:VEVENT
END:VCALENDAR
