BEGIN:VCALENDAR
VERSION:2.0
PRODID:-//tgpdenver.org//NONSGML kigkonsult.se iCalcreator 2.30.10//
CALSCALE:GREGORIAN
METHOD:PUBLISH
UID:bc4e17ab-656a-4c43-9ade-03bba4189214
X-WR-CALDESC:Learn to screenprint your art on a t-shirt! T-shirts provided!
X-WR-RELCALID:de41e207ab09c074697c0508c8b7cb5e
X-WR-TIMEZONE:America/Denver
BEGIN:VTIMEZONE
TZID:America/Denver
BEGIN:STANDARD
TZNAME:MST
DTSTART:20231105T020000
TZOFFSETFROM:-0600
TZOFFSETTO:-0700
RDATE:20241103T020000
END:STANDARD
BEGIN:DAYLIGHT
TZNAME:MDT
DTSTART:20230312T020000
TZOFFSETFROM:-0700
TZOFFSETTO:-0600
RDATE:20240310T020000
RDATE:20250309T020000
END:DAYLIGHT
END:VTIMEZONE
BEGIN:VEVENT
UID:fcaa769f-a8fc-4d87-b71b-6a4d2a20349a
DTSTAMP:20260425T183739Z
DESCRIPTION:Learn to screenprint your art on a t-shirt! T-shirts provided!
DTSTART;TZID=America/Denver:20231113T093000
DTEND;TZID=America/Denver:20231113T113000
LOCATION:Art studio
SUMMARY:T-shirt camp
END:VEVENT
END:VCALENDAR
