BEGIN:VCALENDAR
VERSION:2.0
PRODID:-//tgpdenver.org//NONSGML kigkonsult.se iCalcreator 2.30.10//
CALSCALE:GREGORIAN
METHOD:PUBLISH
UID:a6ac64ff-8889-42ac-8fc9-959b99583788
X-WR-CALDESC:Suboxone\, Substance Use Support
X-WR-RELCALID:25ecf98f6aaa538ae547e7d3a54a3026
X-WR-TIMEZONE:America/Denver
BEGIN:VTIMEZONE
TZID:America/Denver
BEGIN:STANDARD
TZNAME:MST
DTSTART:20231105T020000
TZOFFSETFROM:-0600
TZOFFSETTO:-0700
RDATE:20241103T020000
END:STANDARD
BEGIN:DAYLIGHT
TZNAME:MDT
DTSTART:20230312T020000
TZOFFSETFROM:-0700
TZOFFSETTO:-0600
RDATE:20240310T020000
RDATE:20250309T020000
END:DAYLIGHT
END:VTIMEZONE
BEGIN:VEVENT
UID:8938cda4-1eaf-4c44-bb43-416f9c55aef2
DTSTAMP:20260425T184143Z
DESCRIPTION:Suboxone\, Substance Use Support
DTSTART;TZID=America/Denver:20231113T100000
DTEND;TZID=America/Denver:20231113T110000
LOCATION:Foyer
SUMMARY:Medication Assisted Treatment
END:VEVENT
END:VCALENDAR
