BEGIN:VCALENDAR
VERSION:2.0
PRODID:-//tgpdenver.org//NONSGML kigkonsult.se iCalcreator 2.30.10//
CALSCALE:GREGORIAN
METHOD:PUBLISH
UID:e2c2f7e3-60b3-4119-8d2e-08a920fa8172
X-WR-CALDESC:
X-WR-RELCALID:7934d8f62f8761bb53c0c339ed0ca368
X-WR-TIMEZONE:America/Denver
BEGIN:VTIMEZONE
TZID:America/Denver
BEGIN:STANDARD
TZNAME:MST
DTSTART:20231105T020000
TZOFFSETFROM:-0600
TZOFFSETTO:-0700
RDATE:20241103T020000
END:STANDARD
BEGIN:DAYLIGHT
TZNAME:MDT
DTSTART:20230312T020000
TZOFFSETFROM:-0700
TZOFFSETTO:-0600
RDATE:20240310T020000
RDATE:20250309T020000
END:DAYLIGHT
END:VTIMEZONE
BEGIN:VEVENT
UID:34149ce2-445e-467f-8343-ff006d9feca1
DTSTAMP:20260425T184011Z
DESCRIPTION:
DTSTART;TZID=America/Denver:20231113T130000
DTEND;TZID=America/Denver:20231113T134500
LOCATION:Art Studio
SUMMARY:Survivor Circle
END:VEVENT
END:VCALENDAR
