BEGIN:VCALENDAR
VERSION:2.0
PRODID:-//tgpdenver.org//NONSGML kigkonsult.se iCalcreator 2.30.10//
CALSCALE:GREGORIAN
METHOD:PUBLISH
UID:298174ed-5c8f-4f50-bc73-24bab8b2d4bb
X-WR-CALDESC:
X-WR-RELCALID:2f9bf307f048c067b5f362ac3cce4c94
X-WR-TIMEZONE:America/Denver
BEGIN:VTIMEZONE
TZID:America/Denver
BEGIN:STANDARD
TZNAME:MST
DTSTART:20231105T020000
TZOFFSETFROM:-0600
TZOFFSETTO:-0700
RDATE:20241103T020000
END:STANDARD
BEGIN:DAYLIGHT
TZNAME:MDT
DTSTART:20230312T020000
TZOFFSETFROM:-0700
TZOFFSETTO:-0600
RDATE:20240310T020000
RDATE:20250309T020000
END:DAYLIGHT
END:VTIMEZONE
BEGIN:VEVENT
UID:8c6dd45f-391a-4c48-ba94-1fa33d4cd2d7
DTSTAMP:20260425T184011Z
DESCRIPTION:
DTSTART;TZID=America/Denver:20231113T140000
DTEND;TZID=America/Denver:20231113T144500
LOCATION:Art Studio
SUMMARY:Survivor Art
END:VEVENT
END:VCALENDAR
