BEGIN:VCALENDAR
VERSION:2.0
PRODID:-//tgpdenver.org//NONSGML kigkonsult.se iCalcreator 2.30.10//
CALSCALE:GREGORIAN
METHOD:PUBLISH
UID:ce2a880b-783d-4758-96bf-293fc243fddc
X-WR-CALDESC:Learn to screenprint your art on a t-shirt! T-shirts provided!
X-WR-RELCALID:967b176b6bbedbc9e8d1a76ed115cc80
X-WR-TIMEZONE:America/Denver
BEGIN:VTIMEZONE
TZID:America/Denver
BEGIN:STANDARD
TZNAME:MST
DTSTART:20231105T020000
TZOFFSETFROM:-0600
TZOFFSETTO:-0700
RDATE:20241103T020000
END:STANDARD
BEGIN:DAYLIGHT
TZNAME:MDT
DTSTART:20230312T020000
TZOFFSETFROM:-0700
TZOFFSETTO:-0600
RDATE:20240310T020000
RDATE:20250309T020000
END:DAYLIGHT
END:VTIMEZONE
BEGIN:VEVENT
UID:29cc7b3b-5446-4059-888f-b980fe89ee86
DTSTAMP:20260425T184143Z
DESCRIPTION:Learn to screenprint your art on a t-shirt! T-shirts provided!
DTSTART;TZID=America/Denver:20231114T093000
DTEND;TZID=America/Denver:20231114T113000
LOCATION:Art studio
SUMMARY:T-shirt camp
END:VEVENT
END:VCALENDAR
