BEGIN:VCALENDAR
VERSION:2.0
PRODID:-//tgpdenver.org//NONSGML kigkonsult.se iCalcreator 2.30.10//
CALSCALE:GREGORIAN
METHOD:PUBLISH
UID:3109b627-c48c-475f-8fff-e7603920d46b
X-WR-CALDESC:Clinicians from Stout Street Clinic HOP visit to help with bas
 ic health needs. First come\, first served.
X-WR-RELCALID:35c4ea12b49f638aba019dbb3374ac49
X-WR-TIMEZONE:America/Denver
BEGIN:VTIMEZONE
TZID:America/Denver
BEGIN:STANDARD
TZNAME:MST
DTSTART:20231105T020000
TZOFFSETFROM:-0600
TZOFFSETTO:-0700
RDATE:20241103T020000
END:STANDARD
BEGIN:DAYLIGHT
TZNAME:MDT
DTSTART:20230312T020000
TZOFFSETFROM:-0700
TZOFFSETTO:-0600
RDATE:20240310T020000
RDATE:20250309T020000
END:DAYLIGHT
END:VTIMEZONE
BEGIN:VEVENT
UID:a9dc27b6-3eb4-40ea-b57d-9ccdbbae2668
DTSTAMP:20260425T184349Z
DESCRIPTION:Clinicians from Stout Street Clinic HOP visit to help with basi
 c health needs. First come\, first served.
DTSTART;TZID=America/Denver:20231115T090000
DTEND;TZID=America/Denver:20231115T130000
LOCATION:Wellness Area\, 1st Floor
SUMMARY:Stout St. Health Outreach Program
END:VEVENT
END:VCALENDAR
