BEGIN:VCALENDAR
VERSION:2.0
PRODID:-//tgpdenver.org//NONSGML kigkonsult.se iCalcreator 2.30.10//
CALSCALE:GREGORIAN
METHOD:PUBLISH
UID:19e87634-2b7c-4764-bb4e-e398050267c5
X-WR-CALDESC:Learn to screenprint your art on a t-shirt! T-shirts provided!
X-WR-RELCALID:6d7ccab3f36e8e395d2673b575c38fe4
X-WR-TIMEZONE:America/Denver
BEGIN:VTIMEZONE
TZID:America/Denver
BEGIN:STANDARD
TZNAME:MST
DTSTART:20231105T020000
TZOFFSETFROM:-0600
TZOFFSETTO:-0700
RDATE:20241103T020000
END:STANDARD
BEGIN:DAYLIGHT
TZNAME:MDT
DTSTART:20230312T020000
TZOFFSETFROM:-0700
TZOFFSETTO:-0600
RDATE:20240310T020000
RDATE:20250309T020000
END:DAYLIGHT
END:VTIMEZONE
BEGIN:VEVENT
UID:2831e26c-6bd7-433f-b630-e6f3fdd4a937
DTSTAMP:20260425T184052Z
DESCRIPTION:Learn to screenprint your art on a t-shirt! T-shirts provided!
DTSTART;TZID=America/Denver:20231115T093000
DTEND;TZID=America/Denver:20231115T113000
LOCATION:Art studio
SUMMARY:T-shirt camp
END:VEVENT
END:VCALENDAR
