BEGIN:VCALENDAR
VERSION:2.0
PRODID:-//tgpdenver.org//NONSGML kigkonsult.se iCalcreator 2.30.10//
CALSCALE:GREGORIAN
METHOD:PUBLISH
UID:eb6f0983-64d3-4726-a63d-599e2990b8ff
X-WR-CALDESC:
X-WR-RELCALID:c1baae276e9f559118402bcae40e885b
X-WR-TIMEZONE:America/Denver
BEGIN:VTIMEZONE
TZID:America/Denver
BEGIN:STANDARD
TZNAME:MST
DTSTART:20231105T020000
TZOFFSETFROM:-0600
TZOFFSETTO:-0700
RDATE:20241103T020000
END:STANDARD
BEGIN:DAYLIGHT
TZNAME:MDT
DTSTART:20230312T020000
TZOFFSETFROM:-0700
TZOFFSETTO:-0600
RDATE:20240310T020000
RDATE:20250309T020000
END:DAYLIGHT
END:VTIMEZONE
BEGIN:VEVENT
UID:28717537-483c-49ad-b72f-5d21b53c127e
DTSTAMP:20260425T184425Z
DESCRIPTION:
DTSTART;TZID=America/Denver:20231120T090000
DTEND;TZID=America/Denver:20231120T110000
LOCATION:Welcome Area
SUMMARY:Denver Women's Care
END:VEVENT
END:VCALENDAR
