BEGIN:VCALENDAR
VERSION:2.0
PRODID:-//tgpdenver.org//NONSGML kigkonsult.se iCalcreator 2.30.10//
CALSCALE:GREGORIAN
METHOD:PUBLISH
UID:fdbc2502-0eb4-4be0-83d6-ee477b6fd1b7
X-WR-CALDESC:Suboxone\, Substance Use Support
X-WR-RELCALID:b614ff0cbb68c5fc90d7dfde1dbb5c2a
X-WR-TIMEZONE:America/Denver
BEGIN:VTIMEZONE
TZID:America/Denver
BEGIN:STANDARD
TZNAME:MST
DTSTART:20231105T020000
TZOFFSETFROM:-0600
TZOFFSETTO:-0700
RDATE:20241103T020000
END:STANDARD
BEGIN:DAYLIGHT
TZNAME:MDT
DTSTART:20230312T020000
TZOFFSETFROM:-0700
TZOFFSETTO:-0600
RDATE:20240310T020000
RDATE:20250309T020000
END:DAYLIGHT
END:VTIMEZONE
BEGIN:VEVENT
UID:2bf163e5-7597-4952-8e15-52758b8fd047
DTSTAMP:20260425T184256Z
DESCRIPTION:Suboxone\, Substance Use Support
DTSTART;TZID=America/Denver:20231120T100000
DTEND;TZID=America/Denver:20231120T110000
LOCATION:Foyer
SUMMARY:Medication Assisted Treatment
END:VEVENT
END:VCALENDAR
