BEGIN:VCALENDAR
VERSION:2.0
PRODID:-//tgpdenver.org//NONSGML kigkonsult.se iCalcreator 2.30.10//
CALSCALE:GREGORIAN
METHOD:PUBLISH
UID:0ad1dad4-7c3a-4aef-b39b-100109102984
X-WR-CALDESC:
X-WR-RELCALID:51bf5293ab073bda9abf42636247d2b3
X-WR-TIMEZONE:America/Denver
BEGIN:VTIMEZONE
TZID:America/Denver
BEGIN:STANDARD
TZNAME:MST
DTSTART:20231105T020000
TZOFFSETFROM:-0600
TZOFFSETTO:-0700
RDATE:20241103T020000
END:STANDARD
BEGIN:DAYLIGHT
TZNAME:MDT
DTSTART:20230312T020000
TZOFFSETFROM:-0700
TZOFFSETTO:-0600
RDATE:20240310T020000
RDATE:20250309T020000
END:DAYLIGHT
END:VTIMEZONE
BEGIN:VEVENT
UID:a5596561-54d0-4442-b295-e03ba7347624
DTSTAMP:20260425T183756Z
DESCRIPTION:
DTSTART;TZID=America/Denver:20231122T100000
DTEND;TZID=America/Denver:20231122T113000
LOCATION:
SUMMARY:Native American talking circle
END:VEVENT
END:VCALENDAR
