BEGIN:VCALENDAR
VERSION:2.0
PRODID:-//tgpdenver.org//NONSGML kigkonsult.se iCalcreator 2.30.10//
CALSCALE:GREGORIAN
METHOD:PUBLISH
UID:f9a0d1bf-ec8f-4728-8de5-69bfc6ec5480
X-WR-CALDESC:Supplies and art studio space open to all members to create an
 y project or craft.
X-WR-RELCALID:7c29e462756a6d0a4c13e4aa9837ba4e
X-WR-TIMEZONE:America/Denver
BEGIN:VTIMEZONE
TZID:America/Denver
BEGIN:STANDARD
TZNAME:MST
DTSTART:20231105T020000
TZOFFSETFROM:-0600
TZOFFSETTO:-0700
RDATE:20241103T020000
END:STANDARD
BEGIN:DAYLIGHT
TZNAME:MDT
DTSTART:20230312T020000
TZOFFSETFROM:-0700
TZOFFSETTO:-0600
RDATE:20240310T020000
RDATE:20250309T020000
END:DAYLIGHT
END:VTIMEZONE
BEGIN:VEVENT
UID:d170e16d-a259-44ab-b650-8f9e6bed4c9f
DTSTAMP:20260425T182011Z
DESCRIPTION:Supplies and art studio space open to all members to create any
  project or craft.
DTSTART;TZID=America/Denver:20231127T090000
DTEND;TZID=America/Denver:20231127T120000
LOCATION:3rd floor art studio
SUMMARY:Open studio
END:VEVENT
END:VCALENDAR
