BEGIN:VCALENDAR
VERSION:2.0
PRODID:-//tgpdenver.org//NONSGML kigkonsult.se iCalcreator 2.30.10//
CALSCALE:GREGORIAN
METHOD:PUBLISH
UID:ba8eeb60-217c-42ee-b76d-d57f25db3762
X-WR-CALDESC:
X-WR-RELCALID:6218597819e55f42857f198ad5097aa1
X-WR-TIMEZONE:America/Denver
BEGIN:VTIMEZONE
TZID:America/Denver
BEGIN:STANDARD
TZNAME:MST
DTSTART:20231105T020000
TZOFFSETFROM:-0600
TZOFFSETTO:-0700
RDATE:20241103T020000
END:STANDARD
BEGIN:DAYLIGHT
TZNAME:MDT
DTSTART:20230312T020000
TZOFFSETFROM:-0700
TZOFFSETTO:-0600
RDATE:20240310T020000
RDATE:20250309T020000
END:DAYLIGHT
END:VTIMEZONE
BEGIN:VEVENT
UID:ec51b3ad-b230-4c87-9a0e-d53beaeec1ee
DTSTAMP:20260425T183642Z
DESCRIPTION:
DTSTART;TZID=America/Denver:20231129T100000
DTEND;TZID=America/Denver:20231129T113000
LOCATION:
SUMMARY:Native American talking circle
END:VEVENT
END:VCALENDAR
