BEGIN:VCALENDAR
VERSION:2.0
PRODID:-//tgpdenver.org//NONSGML kigkonsult.se iCalcreator 2.30.10//
CALSCALE:GREGORIAN
METHOD:PUBLISH
UID:910ee9cd-ec02-4620-9c31-c3e7a3080e02
X-WR-CALDESC:
X-WR-RELCALID:826738184e9ba45902653fbef0bdca3e
X-WR-TIMEZONE:America/Denver
BEGIN:VTIMEZONE
TZID:America/Denver
BEGIN:STANDARD
TZNAME:MST
DTSTART:20231105T020000
TZOFFSETFROM:-0600
TZOFFSETTO:-0700
RDATE:20241103T020000
END:STANDARD
BEGIN:DAYLIGHT
TZNAME:MDT
DTSTART:20230312T020000
TZOFFSETFROM:-0700
TZOFFSETTO:-0600
RDATE:20240310T020000
RDATE:20250309T020000
END:DAYLIGHT
END:VTIMEZONE
BEGIN:VEVENT
UID:a00d62cb-bc57-4f94-9bad-d23af322fc57
DTSTAMP:20260425T183611Z
DESCRIPTION:
DTSTART;TZID=America/Denver:20231129T100000
DTEND;TZID=America/Denver:20231129T120000
LOCATION:
SUMMARY:WellPower
END:VEVENT
END:VCALENDAR
