BEGIN:VCALENDAR
VERSION:2.0
PRODID:-//tgpdenver.org//NONSGML kigkonsult.se iCalcreator 2.30.10//
CALSCALE:GREGORIAN
METHOD:PUBLISH
UID:1bf91765-bd06-4d26-aa8f-631d85882cb5
X-WR-CALDESC:
X-WR-RELCALID:8029b965e5b2d6fe5edb59e704f1fa18
X-WR-TIMEZONE:America/Denver
BEGIN:VTIMEZONE
TZID:America/Denver
BEGIN:STANDARD
TZNAME:MST
DTSTART:20231105T020000
TZOFFSETFROM:-0600
TZOFFSETTO:-0700
RDATE:20241103T020000
END:STANDARD
BEGIN:DAYLIGHT
TZNAME:MDT
DTSTART:20230312T020000
TZOFFSETFROM:-0700
TZOFFSETTO:-0600
RDATE:20240310T020000
RDATE:20250309T020000
END:DAYLIGHT
END:VTIMEZONE
BEGIN:VEVENT
UID:2452fbee-c4d2-4e9c-aa43-96a5556783d0
DTSTAMP:20260425T182626Z
DESCRIPTION:
DTSTART;TZID=America/Denver:20231130T130000
DTEND;TZID=America/Denver:20231130T140000
LOCATION:
SUMMARY:Recovery art
END:VEVENT
END:VCALENDAR
