BEGIN:VCALENDAR
VERSION:2.0
PRODID:-//tgpdenver.org//NONSGML kigkonsult.se iCalcreator 2.30.10//
CALSCALE:GREGORIAN
METHOD:PUBLISH
UID:6e9d8fcf-ca9d-4cde-9212-664850714fa0
X-WR-CALDESC:
X-WR-RELCALID:91d769a51c672160e92ebb23f0ed0b10
X-WR-TIMEZONE:America/Denver
BEGIN:VTIMEZONE
TZID:America/Denver
BEGIN:STANDARD
TZNAME:MST
DTSTART:20231105T020000
TZOFFSETFROM:-0600
TZOFFSETTO:-0700
RDATE:20241103T020000
END:STANDARD
BEGIN:DAYLIGHT
TZNAME:MDT
DTSTART:20230312T020000
TZOFFSETFROM:-0700
TZOFFSETTO:-0600
RDATE:20240310T020000
RDATE:20250309T020000
END:DAYLIGHT
END:VTIMEZONE
BEGIN:VEVENT
UID:cb3f9a38-7b8b-4004-b315-e36097c50314
DTSTAMP:20260425T164932Z
DESCRIPTION:
DTSTART;TZID=America/Denver:20231201T090000
DTEND;TZID=America/Denver:20231201T150000
LOCATION:
SUMMARY:Denver College of Nursing
END:VEVENT
END:VCALENDAR
