BEGIN:VCALENDAR
VERSION:2.0
PRODID:-//tgpdenver.org//NONSGML kigkonsult.se iCalcreator 2.30.10//
CALSCALE:GREGORIAN
METHOD:PUBLISH
UID:d8839409-fc9c-4ed2-8e68-60e55c8558a7
X-WR-CALDESC:Supplies and art studio space open to all members to create an
 y project or craft.
X-WR-RELCALID:413cbd66ceda0b99a57880021a9bfa68
X-WR-TIMEZONE:America/Denver
BEGIN:VTIMEZONE
TZID:America/Denver
BEGIN:STANDARD
TZNAME:MST
DTSTART:20231105T020000
TZOFFSETFROM:-0600
TZOFFSETTO:-0700
RDATE:20241103T020000
END:STANDARD
BEGIN:DAYLIGHT
TZNAME:MDT
DTSTART:20230312T020000
TZOFFSETFROM:-0700
TZOFFSETTO:-0600
RDATE:20240310T020000
RDATE:20250309T020000
END:DAYLIGHT
END:VTIMEZONE
BEGIN:VEVENT
UID:cbd996d8-4ffd-4000-8005-40a775238e60
DTSTAMP:20260425T164244Z
DESCRIPTION:Supplies and art studio space open to all members to create any
  project or craft.
DTSTART;TZID=America/Denver:20231204T090000
DTEND;TZID=America/Denver:20231204T120000
LOCATION:3rd floor art studio
SUMMARY:Open studio
END:VEVENT
END:VCALENDAR
