BEGIN:VCALENDAR
VERSION:2.0
PRODID:-//tgpdenver.org//NONSGML kigkonsult.se iCalcreator 2.30.10//
CALSCALE:GREGORIAN
METHOD:PUBLISH
UID:8e2928a5-485a-4e9c-9990-aea72df3ab7e
X-WR-CALDESC:
X-WR-RELCALID:6be4bbbbfe02edf4f9d3e1806bfba0a4
X-WR-TIMEZONE:America/Denver
BEGIN:VTIMEZONE
TZID:America/Denver
BEGIN:STANDARD
TZNAME:MST
DTSTART:20231105T020000
TZOFFSETFROM:-0600
TZOFFSETTO:-0700
RDATE:20241103T020000
END:STANDARD
BEGIN:DAYLIGHT
TZNAME:MDT
DTSTART:20230312T020000
TZOFFSETFROM:-0700
TZOFFSETTO:-0600
RDATE:20240310T020000
RDATE:20250309T020000
END:DAYLIGHT
END:VTIMEZONE
BEGIN:VEVENT
UID:702d2da8-4bc5-45b3-b7fa-c7db5f7192bb
DTSTAMP:20260425T164411Z
DESCRIPTION:
DTSTART;TZID=America/Denver:20231206T100000
DTEND;TZID=America/Denver:20231206T120000
LOCATION:
SUMMARY:WellPower
END:VEVENT
END:VCALENDAR
