BEGIN:VCALENDAR
VERSION:2.0
PRODID:-//tgpdenver.org//NONSGML kigkonsult.se iCalcreator 2.30.10//
CALSCALE:GREGORIAN
METHOD:PUBLISH
UID:6d92ce11-6a82-477e-9e11-028538adf17c
X-WR-CALDESC:Grupo social para conectarse\, sanar\, y aprender juntos. El p
 rograma busca crear un espacio seguro para nuestros miembros latines para 
 encontrar comunidad\, apoyo y bienestar mientras honran su propia verdad.
X-WR-RELCALID:b6114bb41b48b05ba34c2f0c083f993c
X-WR-TIMEZONE:America/Denver
BEGIN:VTIMEZONE
TZID:America/Denver
BEGIN:STANDARD
TZNAME:MST
DTSTART:20231105T020000
TZOFFSETFROM:-0600
TZOFFSETTO:-0700
RDATE:20241103T020000
END:STANDARD
BEGIN:DAYLIGHT
TZNAME:MDT
DTSTART:20230312T020000
TZOFFSETFROM:-0700
TZOFFSETTO:-0600
RDATE:20240310T020000
RDATE:20250309T020000
END:DAYLIGHT
END:VTIMEZONE
BEGIN:VEVENT
UID:c5aa4ef4-9120-4bd8-8f51-d5ddca7e2a3b
DTSTAMP:20260425T165049Z
DESCRIPTION:Grupo social para conectarse\, sanar\, y aprender juntos. El pr
 ograma busca crear un espacio seguro para nuestros miembros latines para e
 ncontrar comunidad\, apoyo y bienestar mientras honran su propia verdad.
DTSTART;TZID=America/Denver:20231208T130000
DTEND;TZID=America/Denver:20231208T140000
LOCATION:Estudio de Arte\, 3er piso
SUMMARY:La Cultura Cura
END:VEVENT
END:VCALENDAR
