BEGIN:VCALENDAR
VERSION:2.0
PRODID:-//tgpdenver.org//NONSGML kigkonsult.se iCalcreator 2.30.10//
CALSCALE:GREGORIAN
METHOD:PUBLISH
UID:37223bb4-d3ed-4384-8986-7575327de6d0
X-WR-CALDESC:Suboxone\, Substance Use Support
X-WR-RELCALID:96a7e2456917350e86c96954347eb66c
X-WR-TIMEZONE:America/Denver
BEGIN:VTIMEZONE
TZID:America/Denver
BEGIN:STANDARD
TZNAME:MST
DTSTART:20231105T020000
TZOFFSETFROM:-0600
TZOFFSETTO:-0700
RDATE:20241103T020000
END:STANDARD
BEGIN:DAYLIGHT
TZNAME:MDT
DTSTART:20230312T020000
TZOFFSETFROM:-0700
TZOFFSETTO:-0600
RDATE:20240310T020000
RDATE:20250309T020000
END:DAYLIGHT
END:VTIMEZONE
BEGIN:VEVENT
UID:f3c39545-0b8a-40b1-bb78-0bdc13bf5b40
DTSTAMP:20260425T164916Z
DESCRIPTION:Suboxone\, Substance Use Support
DTSTART;TZID=America/Denver:20231211T100000
DTEND;TZID=America/Denver:20231211T110000
LOCATION:Foyer
SUMMARY:Medication Assisted Treatment
END:VEVENT
END:VCALENDAR
