BEGIN:VCALENDAR
VERSION:2.0
PRODID:-//tgpdenver.org//NONSGML kigkonsult.se iCalcreator 2.30.10//
CALSCALE:GREGORIAN
METHOD:PUBLISH
UID:42fea956-e070-4c25-9402-fdb67d4ddd2d
X-WR-CALDESC:
X-WR-RELCALID:8ddfa09c406691ff24958c0e397a59f5
X-WR-TIMEZONE:America/Denver
BEGIN:VTIMEZONE
TZID:America/Denver
BEGIN:STANDARD
TZNAME:MST
DTSTART:20231105T020000
TZOFFSETFROM:-0600
TZOFFSETTO:-0700
RDATE:20241103T020000
END:STANDARD
BEGIN:DAYLIGHT
TZNAME:MDT
DTSTART:20230312T020000
TZOFFSETFROM:-0700
TZOFFSETTO:-0600
RDATE:20240310T020000
RDATE:20250309T020000
END:DAYLIGHT
END:VTIMEZONE
BEGIN:VEVENT
UID:e67dfcfa-3e9a-4f19-8660-2f4e8997d6ac
DTSTAMP:20260425T164553Z
DESCRIPTION:
DTSTART;TZID=America/Denver:20231211T130000
DTEND;TZID=America/Denver:20231211T134500
LOCATION:Art Studio
SUMMARY:Survivor Circle
END:VEVENT
END:VCALENDAR
