BEGIN:VCALENDAR
VERSION:2.0
PRODID:-//tgpdenver.org//NONSGML kigkonsult.se iCalcreator 2.30.10//
CALSCALE:GREGORIAN
METHOD:PUBLISH
UID:cf258ad4-115c-479d-b3c0-8758bc438b0a
X-WR-CALDESC:
X-WR-RELCALID:c0b275286582222192bd70ab9c8ff5b0
X-WR-TIMEZONE:America/Denver
BEGIN:VTIMEZONE
TZID:America/Denver
BEGIN:STANDARD
TZNAME:MST
DTSTART:20231105T020000
TZOFFSETFROM:-0600
TZOFFSETTO:-0700
RDATE:20241103T020000
END:STANDARD
BEGIN:DAYLIGHT
TZNAME:MDT
DTSTART:20230312T020000
TZOFFSETFROM:-0700
TZOFFSETTO:-0600
RDATE:20240310T020000
RDATE:20250309T020000
END:DAYLIGHT
END:VTIMEZONE
BEGIN:VEVENT
UID:7b7ba5b4-d46f-47fd-947e-ce988d01a970
DTSTAMP:20260425T164609Z
DESCRIPTION:
DTSTART;TZID=America/Denver:20231211T140000
DTEND;TZID=America/Denver:20231211T144500
LOCATION:Art Studio
SUMMARY:Survivor Art
END:VEVENT
END:VCALENDAR
