BEGIN:VCALENDAR
VERSION:2.0
PRODID:-//tgpdenver.org//NONSGML kigkonsult.se iCalcreator 2.30.10//
CALSCALE:GREGORIAN
METHOD:PUBLISH
UID:40e5abdd-cbc2-4cfb-a5d4-30d8210ef144
X-WR-CALDESC:
X-WR-RELCALID:c03aab664dbd73b8190c7a6a4d655af0
X-WR-TIMEZONE:America/Denver
BEGIN:VTIMEZONE
TZID:America/Denver
BEGIN:STANDARD
TZNAME:MST
DTSTART:20231105T020000
TZOFFSETFROM:-0600
TZOFFSETTO:-0700
RDATE:20241103T020000
END:STANDARD
BEGIN:DAYLIGHT
TZNAME:MDT
DTSTART:20230312T020000
TZOFFSETFROM:-0700
TZOFFSETTO:-0600
RDATE:20240310T020000
RDATE:20250309T020000
END:DAYLIGHT
END:VTIMEZONE
BEGIN:VEVENT
UID:302ea341-8edd-4d9d-b154-7b9a6765fb1d
DTSTAMP:20260425T164631Z
DESCRIPTION:
DTSTART;TZID=America/Denver:20231213T100000
DTEND;TZID=America/Denver:20231213T113000
LOCATION:
SUMMARY:Native American talking circle
END:VEVENT
END:VCALENDAR
